Workbook

Sheet Nhật ký ca
A1: NHẬT KÝ CA — DỮ LIỆU ĐỂ TÍNH KPI NGƯỜI ĐỨNG MÁY (P% × Q%)
A2: Mỗi dòng = một người × một ca × một máy × một mã hàng. Ô nền vàng là ô cần điền; ô khác là công thức — đừng gõ đè. Dữ liệu đang có là DỮ LIỆU MẪU: xoá vùng A6:M29 rồi ghi số của mình.
A3: Máy thu thập được thì lấy số từ máy (bộ đếm, thời gian dừng, lý do dừng); chưa có thì lấy từ sổ giao ca. Cột xám là GÓC NHÌN 2 — chỉ để tham khảo, không nằm trong KPI chính.
A5: Ngày | B5: Ca | C5: Mã NV | D5: Máy | E5: Mã hàng | F5: CT chuẩn (giây/chu kỳ) | G5: Thời gian đứng máy (phút) | H5: Dừng KHÔNG do người (phút) | I5: Dừng do người (phút) | J5: Dừng chưa rõ lý do (phút) | K5: Số chu kỳ máy đếm | L5: Số sp mỗi chu kỳ | M5: Hàng hư (sp) | N5: Sản lượng (sp) | O5: Hàng đạt (sp) | P5: Thời gian chạy (phút) | Q5: A% (của máy) | R5: P% hiệu suất | S5: Q% hàng đạt | T5: KPI người = P × Q | U5: Cần xem | V5: A% phần của người (góc nhìn 2) | W5: KPI mở rộng (góc nhìn 2)
A6: 01/10 | B6: Ca 1 | C6: NV-01 | D6: CNC-01 | E6: MH-A | F6: 90 | G6: 420 | H6: 60 | I6: 0 | J6: 0 | K6: 216 | L6: 1 | M6: 4 | N6: =IF($G6="","",K6*L6) -> 216 | O6: =IF($G6="","",N6-M6) -> 212 | P6: =IF($G6="","",G6-H6-I6-J6) -> 360 | Q6: =IF($G6="","",P6/G6) -> 0.85714286 | R6: =IF(OR($G6="",P6<=0),"",F6*K6/(P6*60)) -> 0.9 | S6: =IF(OR($G6="",N6<=0),"",O6/N6) -> 0.98148148 | T6: =IF(OR(R6="",S6=""),"",R6*S6) -> 0.88333333 | U6: =IF($G6="","",IF(R6>1,"P > 100%: xem lại CT chuẩn / số sp mỗi chu kỳ",IF(J6>0.05*G6,"Nhiều phút dừng chưa rõ lý do",""))) | V6: =IF(OR($G6="",G6-H6<=0),"",(G6-H6-I6)/(G6-H6)) -> 1 | W6: =IF(OR(T6="",V6=""),"",V6*T6) -> 0.88333333
A7: 01/10 | B7: Ca 1 | C7: NV-02 | D7: CNC-02 | E7: MH-B | F7: 30 | G7: 420 | H7: 60 | I7: 0 | J7: 0 | K7: 648 | L7: 1 | M7: 20 | N7: =IF($G7="","",K7*L7) -> 648 | O7: =IF($G7="","",N7-M7) -> 628 | P7: =IF($G7="","",G7-H7-I7-J7) -> 360 | Q7: =IF($G7="","",P7/G7) -> 0.85714286 | R7: =IF(OR($G7="",P7<=0),"",F7*K7/(P7*60)) -> 0.9 | S7: =IF(OR($G7="",N7<=0),"",O7/N7) -> 0.9691358 | T7: =IF(OR(R7="",S7=""),"",R7*S7) -> 0.87222222 | U7: =IF($G7="","",IF(R7>1,"P > 100%: xem lại CT chuẩn / số sp mỗi chu kỳ",IF(J7>0.05*G7,"Nhiều phút dừng chưa rõ lý do",""))) | V7: =IF(OR($G7="",G7-H7<=0),"",(G7-H7-I7)/(G7-H7)) -> 1 | W7: =IF(OR(T7="",V7=""),"",V7*T7) -> 0.87222222
A8: 01/10 | B8: Ca 2 | C8: NV-03 | D8: CNC-01 | E8: MH-C | F8: 45 | G8: 420 | H8: 20 | I8: 0 | J8: 0 | K8: 507 | L8: 1 | M8: 5 | N8: =IF($G8="","",K8*L8) -> 507 | O8: =IF($G8="","",N8-M8) -> 502 | P8: =IF($G8="","",G8-H8-I8-J8) -> 400 | Q8: =IF($G8="","",P8/G8) -> 0.95238095 | R8: =IF(OR($G8="",P8<=0),"",F8*K8/(P8*60)) -> 0.950625 | S8: =IF(OR($G8="",N8<=0),"",O8/N8) -> 0.99013807 | T8: =IF(OR(R8="",S8=""),"",R8*S8) -> 0.94125 | U8: =IF($G8="","",IF(R8>1,"P > 100%: xem lại CT chuẩn / số sp mỗi chu kỳ",IF(J8>0.05*G8,"Nhiều phút dừng chưa rõ lý do",""))) | V8: =IF(OR($G8="",G8-H8<=0),"",(G8-H8-I8)/(G8-H8)) -> 1 | W8: =IF(OR(T8="",V8=""),"",V8*T8) -> 0.94125
A9: 02/10 | B9: Ca 2 | C9: NV-03 | D9: CNC-01 | E9: MH-C | F9: 45 | G9: 420 | H9: 380 | I9: 0 | J9: 0 | K9: 32 | L9: 1 | M9: 1 | N9: =IF($G9="","",K9*L9) -> 32 | O9: =IF($G9="","",N9-M9) -> 31 | P9: =IF($G9="","",G9-H9-I9-J9) -> 40 | Q9: =IF($G9="","",P9/G9) -> 0.095238095 | R9: =IF(OR($G9="",P9<=0),"",F9*K9/(P9*60)) -> 0.6 | S9: =IF(OR($G9="",N9<=0),"",O9/N9) -> 0.96875 | T9: =IF(OR(R9="",S9=""),"",R9*S9) -> 0.58125 | U9: =IF($G9="","",IF(R9>1,"P > 100%: xem lại CT chuẩn / số sp mỗi chu kỳ",IF(J9>0.05*G9,"Nhiều phút dừng chưa rõ lý do",""))) | V9: =IF(OR($G9="",G9-H9<=0),"",(G9-H9-I9)/(G9-H9)) -> 1 | W9: =IF(OR(T9="",V9=""),"",V9*T9) -> 0.58125
A10: 02/10 | B10: Ca 1 | C10: NV-01 | D10: CNC-01 | E10: MH-A | F10: 90 | G10: 420 | H10: 35 | I10: 10 | J10: 0 | K10: 220 | L10: 1 | M10: 3 | N10: =IF($G10="","",K10*L10) -> 220 | O10: =IF($G10="","",N10-M10) -> 217 | P10: =IF($G10="","",G10-H10-I10-J10) -> 375 | Q10: =IF($G10="","",P10/G10) -> 0.89285714 | R10: =IF(OR($G10="",P10<=0),"",F10*K10/(P10*60)) -> 0.88 | S10: =IF(OR($G10="",N10<=0),"",O10/N10) -> 0.98636364 | T10: =IF(OR(R10="",S10=""),"",R10*S10) -> 0.868 | U10: =IF($G10="","",IF(R10>1,"P > 100%: xem lại CT chuẩn / số sp mỗi chu kỳ",IF(J10>0.05*G10,"Nhiều phút dừng chưa rõ lý do",""))) | V10: =IF(OR($G10="",G10-H10<=0),"",(G10-H10-I10)/(G10-H10)) -> 0.97402597 | W10: =IF(OR(T10="",V10=""),"",V10*T10) -> 0.84545455
A11: 02/10 | B11: Ca 1 | C11: NV-02 | D11: DAP-01 | E11: MH-D | F11: 4 | G11: 420 | H11: 45 | I11: 0 | J11: 0 | K11: 4725 | L11: 2 | M11: 60 | N11: =IF($G11="","",K11*L11) -> 9450 | O11: =IF($G11="","",N11-M11) -> 9390 | P11: =IF($G11="","",G11-H11-I11-J11) -> 375 | Q11: =IF($G11="","",P11/G11) -> 0.89285714 | R11: =IF(OR($G11="",P11<=0),"",F11*K11/(P11*60)) -> 0.84 | S11: =IF(OR($G11="",N11<=0),"",O11/N11) -> 0.99365079 | T11: =IF(OR(R11="",S11=""),"",R11*S11) -> 0.83466667 | U11: =IF($G11="","",IF(R11>1,"P > 100%: xem lại CT chuẩn / số sp mỗi chu kỳ",IF(J11>0.05*G11,"Nhiều phút dừng chưa rõ lý do",""))) | V11: =IF(OR($G11="",G11-H11<=0),"",(G11-H11-I11)/(G11-H11)) -> 1 | W11: =IF(OR(T11="",V11=""),"",V11*T11) -> 0.83466667
A12: 03/10 | B12: Ca 1 | C12: NV-01 | D12: CNC-02 | E12: MH-B | F12: 30 | G12: 420 | H12: 25 | I12: 15 | J12: 0 | K12: 654 | L12: 1 | M12: 12 | N12: =IF($G12="","",K12*L12) -> 654 | O12: =IF($G12="","",N12-M12) -> 642 | P12: =IF($G12="","",G12-H12-I12-J12) -> 380 | Q12: =IF($G12="","",P12/G12) -> 0.9047619 | R12: =IF(OR($G12="",P12<=0),"",F12*K12/(P12*60)) -> 0.86052632 | S12: =IF(OR($G12="",N12<=0),"",O12/N12) -> 0.98165138 | T12: =IF(OR(R12="",S12=""),"",R12*S12) -> 0.84473684 | U12: =IF($G12="","",IF(R12>1,"P > 100%: xem lại CT chuẩn / số sp mỗi chu kỳ",IF(J12>0.05*G12,"Nhiều phút dừng chưa rõ lý do",""))) | V12: =IF(OR($G12="",G12-H12<=0),"",(G12-H12-I12)/(G12-H12)) -> 0.96202532 | W12: =IF(OR(T12="",V12=""),"",V12*T12) -> 0.81265823
A13: 03/10 | B13: Ca 1 | C13: NV-02 | D13: CNC-01 | E13: MH-A | F13: 90 | G13: 420 | H13: 70 | I13: 0 | J13: 45 | K13: 181 | L13: 1 | M13: 3 | N13: =IF($G13="","",K13*L13) -> 181 | O13: =IF($G13="","",N13-M13) -> 178 | P13: =IF($G13="","",G13-H13-I13-J13) -> 305 | Q13: =IF($G13="","",P13/G13) -> 0.72619048 | R13: =IF(OR($G13="",P13<=0),"",F13*K13/(P13*60)) -> 0.89016393 | S13: =IF(OR($G13="",N13<=0),"",O13/N13) -> 0.98342541 | T13: =IF(OR(R13="",S13=""),"",R13*S13) -> 0.87540984 | U13: =IF($G13="","",IF(R13>1,"P > 100%: xem lại CT chuẩn / số sp mỗi chu kỳ",IF(J13>0.05*G13,"Nhiều phút dừng chưa rõ lý do",""))) -> Nhiều phút dừng chưa rõ lý do | V13: =IF(OR($G13="",G13-H13<=0),"",(G13-H13-I13)/(G13-H13)) -> 1 | W13: =IF(OR(T13="",V13=""),"",V13*T13) -> 0.87540984
A14: 03/10 | B14: Ca 2 | C14: NV-03 | D14: CNC-02 | E14: MH-C | F14: 45 | G14: 420 | H14: 30 | I14: 5 | J14: 0 | K14: 477 | L14: 1 | M14: 4 | N14: =IF($G14="","",K14*L14) -> 477 | O14: =IF($G14="","",N14-M14) -> 473 | P14: =IF($G14="","",G14-H14-I14-J14) -> 385 | Q14: =IF($G14="","",P14/G14) -> 0.91666667 | R14: =IF(OR($G14="",P14<=0),"",F14*K14/(P14*60)) -> 0.92922078 | S14: =IF(OR($G14="",N14<=0),"",O14/N14) -> 0.99161426 | T14: =IF(OR(R14="",S14=""),"",R14*S14) -> 0.92142857 | U14: =IF($G14="","",IF(R14>1,"P > 100%: xem lại CT chuẩn / số sp mỗi chu kỳ",IF(J14>0.05*G14,"Nhiều phút dừng chưa rõ lý do",""))) | V14: =IF(OR($G14="",G14-H14<=0),"",(G14-H14-I14)/(G14-H14)) -> 0.98717949 | W14: =IF(OR(T14="",V14=""),"",V14*T14) -> 0.90961538
A15: 04/10 | B15: Ca 1 | C15: NV-01 | D15: DAP-01 | E15: MH-D | F15: 4 | G15: 420 | H15: 50 | I15: 0 | J15: 0 | K15: 4828 | L15: 2 | M15: 40 | N15: =IF($G15="","",K15*L15) -> 9656 | O15: =IF($G15="","",N15-M15) -> 9616 | P15: =IF($G15="","",G15-H15-I15-J15) -> 370 | Q15: =IF($G15="","",P15/G15) -> 0.88095238 | R15: =IF(OR($G15="",P15<=0),"",F15*K15/(P15*60)) -> 0.86990991 | S15: =IF(OR($G15="",N15<=0),"",O15/N15) -> 0.9958575 | T15: =IF(OR(R15="",S15=""),"",R15*S15) -> 0.86630631 | U15: =IF($G15="","",IF(R15>1,"P > 100%: xem lại CT chuẩn / số sp mỗi chu kỳ",IF(J15>0.05*G15,"Nhiều phút dừng chưa rõ lý do",""))) | V15: =IF(OR($G15="",G15-H15<=0),"",(G15-H15-I15)/(G15-H15)) -> 1 | W15: =IF(OR(T15="",V15=""),"",V15*T15) -> 0.86630631
A16: 04/10 | B16: Ca 1 | C16: NV-02 | D16: CNC-02 | E16: MH-B | F16: 30 | G16: 420 | H16: 40 | I16: 20 | J16: 0 | K16: 655 | L16: 1 | M16: 15 | N16: =IF($G16="","",K16*L16) -> 655 | O16: =IF($G16="","",N16-M16) -> 640 | P16: =IF($G16="","",G16-H16-I16-J16) -> 360 | Q16: =IF($G16="","",P16/G16) -> 0.85714286 | R16: =IF(OR($G16="",P16<=0),"",F16*K16/(P16*60)) -> 0.90972222 | S16: =IF(OR($G16="",N16<=0),"",O16/N16) -> 0.97709924 | T16: =IF(OR(R16="",S16=""),"",R16*S16) -> 0.88888889 | U16: =IF($G16="","",IF(R16>1,"P > 100%: xem lại CT chuẩn / số sp mỗi chu kỳ",IF(J16>0.05*G16,"Nhiều phút dừng chưa rõ lý do",""))) | V16: =IF(OR($G16="",G16-H16<=0),"",(G16-H16-I16)/(G16-H16)) -> 0.94736842 | W16: =IF(OR(T16="",V16=""),"",V16*T16) -> 0.84210526
A17: 04/10 | B17: Ca 2 | C17: NV-03 | D17: CNC-01 | E17: MH-A | F17: 90 | G17: 420 | H17: 20 | I17: 0 | J17: 0 | K17: 299 | L17: 1 | M17: 2 | N17: =IF($G17="","",K17*L17) -> 299 | O17: =IF($G17="","",N17-M17) -> 297 | P17: =IF($G17="","",G17-H17-I17-J17) -> 400 | Q17: =IF($G17="","",P17/G17) -> 0.95238095 | R17: =IF(OR($G17="",P17<=0),"",F17*K17/(P17*60)) -> 1.12125 | S17: =IF(OR($G17="",N17<=0),"",O17/N17) -> 0.99331104 | T17: =IF(OR(R17="",S17=""),"",R17*S17) -> 1.11375 | U17: =IF($G17="","",IF(R17>1,"P > 100%: xem lại CT chuẩn / số sp mỗi chu kỳ",IF(J17>0.05*G17,"Nhiều phút dừng chưa rõ lý do",""))) -> P > 100%: xem lại CT chuẩn / số sp mỗi chu kỳ | V17: =IF(OR($G17="",G17-H17<=0),"",(G17-H17-I17)/(G17-H17)) -> 1 | W17: =IF(OR(T17="",V17=""),"",V17*T17) -> 1.11375
... A20: 05/10 | B20: Ca 2 | C20: NV-03 | D20: DAP-01 | E20: MH-D | F20: 4 | G20: 420 | H20: 60 | I20: 10 | J20: 0 | K20: 4725 | L20: 2 | M20: 70 | N20: =IF($G20="","",K20*L20) -> 9450 | O20: =IF($G20="","",N20-M20) -> 9380 | P20: =IF($G20="","",G20-H20-I20-J20) -> 350 | Q20: =IF($G20="","",P20/G20) -> 0.83333333 | R20: =IF(OR($G20="",P20<=0),"",F20*K20/(P20*60)) -> 0.9 | S20: =IF(OR($G20="",N20<=0),"",O20/N20) -> 0.99259259 | T20: =IF(OR(R20="",S20=""),"",R20*S20) -> 0.89333333 | U20: =IF($G20="","",IF(R20>1,"P > 100%: xem lại CT chuẩn / số sp mỗi chu kỳ",IF(J20>0.05*G20,"Nhiều phút dừng chưa rõ lý do",""))) | V20: =IF(OR($G20="",G20-H20<=0),"",(G20-H20-I20)/(G20-H20)) -> 0.97222222 | W20: =IF(OR(T20="",V20=""),"",V20*T20) -> 0.86851852
N21: =IF($G21="","",K21*L21) | O21: =IF($G21="","",N21-M21) | P21: =IF($G21="","",G21-H21-I21-J21) | Q21: =IF($G21="","",P21/G21) | R21: =IF(OR($G21="",P21<=0),"",F21*K21/(P21*60)) | S21: =IF(OR($G21="",N21<=0),"",O21/N21) | T21: =IF(OR(R21="",S21=""),"",R21*S21) | U21: =IF($G21="","",IF(R21>1,"P > 100%: xem lại CT chuẩn / số sp mỗi chu kỳ",IF(J21>0.05*G21,"Nhiều phút dừng chưa rõ lý do",""))) | V21: =IF(OR($G21="",G21-H21<=0),"",(G21-H21-I21)/(G21-H21)) | W21: =IF(OR(T21="",V21=""),"",V21*T21)
N22: =IF($G22="","",K22*L22) | O22: =IF($G22="","",N22-M22) | P22: =IF($G22="","",G22-H22-I22-J22) | Q22: =IF($G22="","",P22/G22) | R22: =IF(OR($G22="",P22<=0),"",F22*K22/(P22*60)) | S22: =IF(OR($G22="",N22<=0),"",O22/N22) | T22: =IF(OR(R22="",S22=""),"",R22*S22) | U22: =IF($G22="","",IF(R22>1,"P > 100%: xem lại CT chuẩn / số sp mỗi chu kỳ",IF(J22>0.05*G22,"Nhiều phút dừng chưa rõ lý do",""))) | V22: =IF(OR($G22="",G22-H22<=0),"",(G22-H22-I22)/(G22-H22)) | W22: =IF(OR(T22="",V22=""),"",V22*T22)
N23: =IF($G23="","",K23*L23) | O23: =IF($G23="","",N23-M23) | P23: =IF($G23="","",G23-H23-I23-J23) | Q23: =IF($G23="","",P23/G23) | R23: =IF(OR($G23="",P23<=0),"",F23*K23/(P23*60)) | S23: =IF(OR($G23="",N23<=0),"",O23/N23) | T23: =IF(OR(R23="",S23=""),"",R23*S23) | U23: =IF($G23="","",IF(R23>1,"P > 100%: xem lại CT chuẩn / số sp mỗi chu kỳ",IF(J23>0.05*G23,"Nhiều phút dừng chưa rõ lý do",""))) | V23: =IF(OR($G23="",G23-H23<=0),"",(G23-H23-I23)/(G23-H23)) | W23: =IF(OR(T23="",V23=""),"",V23*T23)
N24: =IF($G24="","",K24*L24) | O24: =IF($G24="","",N24-M24) | P24: =IF($G24="","",G24-H24-I24-J24) | Q24: =IF($G24="","",P24/G24) | R24: =IF(OR($G24="",P24<=0),"",F24*K24/(P24*60)) | S24: =IF(OR($G24="",N24<=0),"",O24/N24) | T24: =IF(OR(R24="",S24=""),"",R24*S24) | U24: =IF($G24="","",IF(R24>1,"P > 100%: xem lại CT chuẩn / số sp mỗi chu kỳ",IF(J24>0.05*G24,"Nhiều phút dừng chưa rõ lý do",""))) | V24: =IF(OR($G24="",G24-H24<=0),"",(G24-H24-I24)/(G24-H24)) | W24: =IF(OR(T24="",V24=""),"",V24*T24)
N25: =IF($G25="","",K25*L25) | O25: =IF($G25="","",N25-M25) | P25: =IF($G25="","",G25-H25-I25-J25) | Q25: =IF($G25="","",P25/G25) | R25: =IF(OR($G25="",P25<=0),"",F25*K25/(P25*60)) | S25: =IF(OR($G25="",N25<=0),"",O25/N25) | T25: =IF(OR(R25="",S25=""),"",R25*S25) | U25: =IF($G25="","",IF(R25>1,"P > 100%: xem lại CT chuẩn / số sp mỗi chu kỳ",IF(J25>0.05*G25,"Nhiều phút dừng chưa rõ lý do",""))) | V25: =IF(OR($G25="",G25-H25<=0),"",(G25-H25-I25)/(G25-H25)) | W25: =IF(OR(T25="",V25=""),"",V25*T25)
N26: =IF($G26="","",K26*L26) | O26: =IF($G26="","",N26-M26) | P26: =IF($G26="","",G26-H26-I26-J26) | Q26: =IF($G26="","",P26/G26) | R26: =IF(OR($G26="",P26<=0),"",F26*K26/(P26*60)) | S26: =IF(OR($G26="",N26<=0),"",O26/N26) | T26: =IF(OR(R26="",S26=""),"",R26*S26) | U26: =IF($G26="","",IF(R26>1,"P > 100%: xem lại CT chuẩn / số sp mỗi chu kỳ",IF(J26>0.05*G26,"Nhiều phút dừng chưa rõ lý do",""))) | V26: =IF(OR($G26="",G26-H26<=0),"",(G26-H26-I26)/(G26-H26)) | W26: =IF(OR(T26="",V26=""),"",V26*T26)
N27: =IF($G27="","",K27*L27) | O27: =IF($G27="","",N27-M27) | P27: =IF($G27="","",G27-H27-I27-J27) | Q27: =IF($G27="","",P27/G27) | R27: =IF(OR($G27="",P27<=0),"",F27*K27/(P27*60)) | S27: =IF(OR($G27="",N27<=0),"",O27/N27) | T27: =IF(OR(R27="",S27=""),"",R27*S27) | U27: =IF($G27="","",IF(R27>1,"P > 100%: xem lại CT chuẩn / số sp mỗi chu kỳ",IF(J27>0.05*G27,"Nhiều phút dừng chưa rõ lý do",""))) | V27: =IF(OR($G27="",G27-H27<=0),"",(G27-H27-I27)/(G27-H27)) | W27: =IF(OR(T27="",V27=""),"",V27*T27)
N28: =IF($G28="","",K28*L28) | O28: =IF($G28="","",N28-M28) | P28: =IF($G28="","",G28-H28-I28-J28) | Q28: =IF($G28="","",P28/G28) | R28: =IF(OR($G28="",P28<=0),"",F28*K28/(P28*60)) | S28: =IF(OR($G28="",N28<=0),"",O28/N28) | T28: =IF(OR(R28="",S28=""),"",R28*S28) | U28: =IF($G28="","",IF(R28>1,"P > 100%: xem lại CT chuẩn / số sp mỗi chu kỳ",IF(J28>0.05*G28,"Nhiều phút dừng chưa rõ lý do",""))) | V28: =IF(OR($G28="",G28-H28<=0),"",(G28-H28-I28)/(G28-H28)) | W28: =IF(OR(T28="",V28=""),"",V28*T28)
N29: =IF($G29="","",K29*L29) | O29: =IF($G29="","",N29-M29) | P29: =IF($G29="","",G29-H29-I29-J29) | Q29: =IF($G29="","",P29/G29) | R29: =IF(OR($G29="",P29<=0),"",F29*K29/(P29*60)) | S29: =IF(OR($G29="",N29<=0),"",O29/N29) | T29: =IF(OR(R29="",S29=""),"",R29*S29) | U29: =IF($G29="","",IF(R29>1,"P > 100%: xem lại CT chuẩn / số sp mỗi chu kỳ",IF(J29>0.05*G29,"Nhiều phút dừng chưa rõ lý do",""))) | V29: =IF(OR($G29="",G29-H29<=0),"",(G29-H29-I29)/(G29-H29)) | W29: =IF(OR(T29="",V29=""),"",V29*T29)

Sheet Tổng hợp theo người
A1: TỔNG HỢP KPI THEO NGƯỜI — CỘNG THỜI GIAN VÀ SẢN LƯỢNG RỒI MỚI CHIA
A2: Đừng lấy trung bình các P% của từng ca: một ca máy hỏng gần hết (ít phút chạy) sẽ nặng ngang một ca chạy trọn. Ở đây P = tổng phút chuẩn ÷ tổng phút chạy, Q = tổng hàng đạt ÷ tổng sản lượng.
A4: Mã NV | B4: Số ca | C4: Tổng phút đứng máy | D4: Tổng phút chạy | E4: Tổng phút chuẩn đã làm | F4: P% hiệu suất | G4: Tổng sản lượng (sp) | H4: Tổng hàng hư (sp) | I4: Q% hàng đạt | J4: KPI người = P × Q | K4: Phút dừng có lý do (%) | L4: Đủ điều kiện xét thưởng? | M4: Bậc (ví dụ) | N4: Hệ số thưởng (ví dụ) | O4: KPI mở rộng (góc nhìn 2)
A5: NV-01 | B5: =IF($A5="","",COUNTIF('Nhật ký ca'!$C$6:$C$29,$A5)) -> 5 | C5: =IF($A5="","",SUMIF('Nhật ký ca'!$C$6:$C$29,$A5,'Nhật ký ca'!$G$6:$G$29)) -> 2100 | D5: =IF($A5="","",SUMIF('Nhật ký ca'!$C$6:$C$29,$A5,'Nhật ký ca'!$P$6:$P$29)) -> 1855 | E5: =IF($A5="","",SUMPRODUCT(('Nhật ký ca'!$C$6:$C$29=$A5)*'Nhật ký ca'!$F$6:$F$29*'Nhật ký ca'!$K$6:$K$29)/60) -> 1643.3667 | F5: =IF(OR($A5="",D5<=0),"",E5/D5) -> 0.88591195 | G5: =IF($A5="","",SUMIF('Nhật ký ca'!$C$6:$C$29,$A5,'Nhật ký ca'!$N$6:$N$29)) -> 11200 | H5: =IF($A5="","",SUMIF('Nhật ký ca'!$C$6:$C$29,$A5,'Nhật ký ca'!$M$6:$M$29)) -> 64 | I5: =IF(OR($A5="",G5<=0),"",(G5-H5)/G5) -> 0.99428571 | J5: =IF(OR(F5="",I5=""),"",F5*I5) -> 0.8808496 | K5: =IF($A5="","",IFERROR(1-SUMIF('Nhật ký ca'!$C$6:$C$29,$A5,'Nhật ký ca'!$J$6:$J$29)/(SUMIF('Nhật ký ca'!$C$6:$C$29,$A5,'Nhật ký ca'!$H$6:$H$29)+SUMIF('Nhật ký ca'!$C$6:$C$29,$A5,'Nhật ký ca'!$I$6:$I$29)+SUMIF('Nhật ký ca'!$C$6:$C$29,$A5,'Nhật ký ca'!$J$6:$J$29)),1)) -> 1 | L5: =IF(OR(J5="",C5=""),"",IF(AND(C5>=$C$15,K5>=$C$16,COUNTIFS('Nhật ký ca'!$C$6:$C$29,$A5,'Nhật ký ca'!$R$6:$R$29,">1")=0),"Đủ","Chưa đủ")) -> Đủ | M5: =IF(L5<>"Đủ","—",IF(J5>=$B$22,"Bậc 3",IF(J5>=$B$21,"Bậc 2",IF(J5>=$B$20,"Bậc 1","Chưa đạt")))) -> Bậc 2 | N5: =IF(L5<>"Đủ","",IF(J5>=$B$22,$C$22,IF(J5>=$B$21,$C$21,IF(J5>=$B$20,$C$20,0)))) -> 1 | O5: =IF(OR($A5="",J5=""),"",IFERROR((C5-SUMIF('Nhật ký ca'!$C$6:$C$29,$A5,'Nhật ký ca'!$H$6:$H$29)-SUMIF('Nhật ký ca'!$C$6:$C$29,$A5,'Nhật ký ca'!$I$6:$I$29))/(C5-SUMIF('Nhật ký ca'!$C$6:$C$29,$A5,'Nhật ký ca'!$H$6:$H$29))*J5,"")) -> 0.86683077
A6: NV-02 | B6: =IF($A6="","",COUNTIF('Nhật ký ca'!$C$6:$C$29,$A6)) -> 5 | C6: =IF($A6="","",SUMIF('Nhật ký ca'!$C$6:$C$29,$A6,'Nhật ký ca'!$G$6:$G$29)) -> 2100 | D6: =IF($A6="","",SUMIF('Nhật ký ca'!$C$6:$C$29,$A6,'Nhật ký ca'!$P$6:$P$29)) -> 1790 | E6: =IF($A6="","",SUMPRODUCT(('Nhật ký ca'!$C$6:$C$29=$A6)*'Nhật ký ca'!$F$6:$F$29*'Nhật ký ca'!$K$6:$K$29)/60) -> 1601 | F6: =IF(OR($A6="",D6<=0),"",E6/D6) -> 0.89441341 | G6: =IF($A6="","",SUMIF('Nhật ký ca'!$C$6:$C$29,$A6,'Nhật ký ca'!$N$6:$N$29)) -> 11176 | H6: =IF($A6="","",SUMIF('Nhật ký ca'!$C$6:$C$29,$A6,'Nhật ký ca'!$M$6:$M$29)) -> 100 | I6: =IF(OR($A6="",G6<=0),"",(G6-H6)/G6) -> 0.99105225 | J6: =IF(OR(F6="",I6=""),"",F6*I6) -> 0.88641042 | K6: =IF($A6="","",IFERROR(1-SUMIF('Nhật ký ca'!$C$6:$C$29,$A6,'Nhật ký ca'!$J$6:$J$29)/(SUMIF('Nhật ký ca'!$C$6:$C$29,$A6,'Nhật ký ca'!$H$6:$H$29)+SUMIF('Nhật ký ca'!$C$6:$C$29,$A6,'Nhật ký ca'!$I$6:$I$29)+SUMIF('Nhật ký ca'!$C$6:$C$29,$A6,'Nhật ký ca'!$J$6:$J$29)),1)) -> 0.85483871 | L6: =IF(OR(J6="",C6=""),"",IF(AND(C6>=$C$15,K6>=$C$16,COUNTIFS('Nhật ký ca'!$C$6:$C$29,$A6,'Nhật ký ca'!$R$6:$R$29,">1")=0),"Đủ","Chưa đủ")) -> Chưa đủ | M6: =IF(L6<>"Đủ","—",IF(J6>=$B$22,"Bậc 3",IF(J6>=$B$21,"Bậc 2",IF(J6>=$B$20,"Bậc 1","Chưa đạt")))) -> — | N6: =IF(L6<>"Đủ","",IF(J6>=$B$22,$C$22,IF(J6>=$B$21,$C$21,IF(J6>=$B$20,$C$20,0)))) | O6: =IF(OR($A6="",J6=""),"",IFERROR((C6-SUMIF('Nhật ký ca'!$C$6:$C$29,$A6,'Nhật ký ca'!$H$6:$H$29)-SUMIF('Nhật ký ca'!$C$6:$C$29,$A6,'Nhật ký ca'!$I$6:$I$29))/(C6-SUMIF('Nhật ký ca'!$C$6:$C$29,$A6,'Nhật ký ca'!$H$6:$H$29))*J6,"")) -> 0.87685344
A7: NV-03 | B7: =IF($A7="","",COUNTIF('Nhật ký ca'!$C$6:$C$29,$A7)) -> 5 | C7: =IF($A7="","",SUMIF('Nhật ký ca'!$C$6:$C$29,$A7,'Nhật ký ca'!$G$6:$G$29)) -> 2100 | D7: =IF($A7="","",SUMIF('Nhật ký ca'!$C$6:$C$29,$A7,'Nhật ký ca'!$P$6:$P$29)) -> 1575 | E7: =IF($A7="","",SUMPRODUCT(('Nhật ký ca'!$C$6:$C$29=$A7)*'Nhật ký ca'!$F$6:$F$29*'Nhật ký ca'!$K$6:$K$29)/60) -> 1525.5 | F7: =IF(OR($A7="",D7<=0),"",E7/D7) -> 0.96857143 | G7: =IF($A7="","",SUMIF('Nhật ký ca'!$C$6:$C$29,$A7,'Nhật ký ca'!$N$6:$N$29)) -> 10765 | H7: =IF($A7="","",SUMIF('Nhật ký ca'!$C$6:$C$29,$A7,'Nhật ký ca'!$M$6:$M$29)) -> 82 | I7: =IF(OR($A7="",G7<=0),"",(G7-H7)/G7) -> 0.99238272 | J7: =IF(OR(F7="",I7=""),"",F7*I7) -> 0.96119355 | K7: =IF($A7="","",IFERROR(1-SUMIF('Nhật ký ca'!$C$6:$C$29,$A7,'Nhật ký ca'!$J$6:$J$29)/(SUMIF('Nhật ký ca'!$C$6:$C$29,$A7,'Nhật ký ca'!$H$6:$H$29)+SUMIF('Nhật ký ca'!$C$6:$C$29,$A7,'Nhật ký ca'!$I$6:$I$29)+SUMIF('Nhật ký ca'!$C$6:$C$29,$A7,'Nhật ký ca'!$J$6:$J$29)),1)) -> 1 | L7: =IF(OR(J7="",C7=""),"",IF(AND(C7>=$C$15,K7>=$C$16,COUNTIFS('Nhật ký ca'!$C$6:$C$29,$A7,'Nhật ký ca'!$R$6:$R$29,">1")=0),"Đủ","Chưa đủ")) -> Chưa đủ | M7: =IF(L7<>"Đủ","—",IF(J7>=$B$22,"Bậc 3",IF(J7>=$B$21,"Bậc 2",IF(J7>=$B$20,"Bậc 1","Chưa đạt")))) -> — | N7: =IF(L7<>"Đủ","",IF(J7>=$B$22,$C$22,IF(J7>=$B$21,$C$21,IF(J7>=$B$20,$C$20,0)))) | O7: =IF(OR($A7="",J7=""),"",IFERROR((C7-SUMIF('Nhật ký ca'!$C$6:$C$29,$A7,'Nhật ký ca'!$H$6:$H$29)-SUMIF('Nhật ký ca'!$C$6:$C$29,$A7,'Nhật ký ca'!$I$6:$I$29))/(C7-SUMIF('Nhật ký ca'!$C$6:$C$29,$A7,'Nhật ký ca'!$H$6:$H$29))*J7,"")) -> 0.95212569
B8: =IF($A8="","",COUNTIF('Nhật ký ca'!$C$6:$C$29,$A8)) | C8: =IF($A8="","",SUMIF('Nhật ký ca'!$C$6:$C$29,$A8,'Nhật ký ca'!$G$6:$G$29)) | D8: =IF($A8="","",SUMIF('Nhật ký ca'!$C$6:$C$29,$A8,'Nhật ký ca'!$P$6:$P$29)) | E8: =IF($A8="","",SUMPRODUCT(('Nhật ký ca'!$C$6:$C$29=$A8)*'Nhật ký ca'!$F$6:$F$29*'Nhật ký ca'!$K$6:$K$29)/60) | F8: =IF(OR($A8="",D8<=0),"",E8/D8) | G8: =IF($A8="","",SUMIF('Nhật ký ca'!$C$6:$C$29,$A8,'Nhật ký ca'!$N$6:$N$29)) | H8: =IF($A8="","",SUMIF('Nhật ký ca'!$C$6:$C$29,$A8,'Nhật ký ca'!$M$6:$M$29)) | I8: =IF(OR($A8="",G8<=0),"",(G8-H8)/G8) | J8: =IF(OR(F8="",I8=""),"",F8*I8) | K8: =IF($A8="","",IFERROR(1-SUMIF('Nhật ký ca'!$C$6:$C$29,$A8,'Nhật ký ca'!$J$6:$J$29)/(SUMIF('Nhật ký ca'!$C$6:$C$29,$A8,'Nhật ký ca'!$H$6:$H$29)+SUMIF('Nhật ký ca'!$C$6:$C$29,$A8,'Nhật ký ca'!$I$6:$I$29)+SUMIF('Nhật ký ca'!$C$6:$C$29,$A8,'Nhật ký ca'!$J$6:$J$29)),1)) | L8: =IF(OR(J8="",C8=""),"",IF(AND(C8>=$C$15,K8>=$C$16,COUNTIFS('Nhật ký ca'!$C$6:$C$29,$A8,'Nhật ký ca'!$R$6:$R$29,">1")=0),"Đủ","Chưa đủ")) | M8: =IF(L8<>"Đủ","—",IF(J8>=$B$22,"Bậc 3",IF(J8>=$B$21,"Bậc 2",IF(J8>=$B$20,"Bậc 1","Chưa đạt")))) -> — | N8: =IF(L8<>"Đủ","",IF(J8>=$B$22,$C$22,IF(J8>=$B$21,$C$21,IF(J8>=$B$20,$C$20,0)))) | O8: =IF(OR($A8="",J8=""),"",IFERROR((C8-SUMIF('Nhật ký ca'!$C$6:$C$29,$A8,'Nhật ký ca'!$H$6:$H$29)-SUMIF('Nhật ký ca'!$C$6:$C$29,$A8,'Nhật ký ca'!$I$6:$I$29))/(C8-SUMIF('Nhật ký ca'!$C$6:$C$29,$A8,'Nhật ký ca'!$H$6:$H$29))*J8,""))
B9: =IF($A9="","",COUNTIF('Nhật ký ca'!$C$6:$C$29,$A9)) | C9: =IF($A9="","",SUMIF('Nhật ký ca'!$C$6:$C$29,$A9,'Nhật ký ca'!$G$6:$G$29)) | D9: =IF($A9="","",SUMIF('Nhật ký ca'!$C$6:$C$29,$A9,'Nhật ký ca'!$P$6:$P$29)) | E9: =IF($A9="","",SUMPRODUCT(('Nhật ký ca'!$C$6:$C$29=$A9)*'Nhật ký ca'!$F$6:$F$29*'Nhật ký ca'!$K$6:$K$29)/60) | F9: =IF(OR($A9="",D9<=0),"",E9/D9) | G9: =IF($A9="","",SUMIF('Nhật ký ca'!$C$6:$C$29,$A9,'Nhật ký ca'!$N$6:$N$29)) | H9: =IF($A9="","",SUMIF('Nhật ký ca'!$C$6:$C$29,$A9,'Nhật ký ca'!$M$6:$M$29)) | I9: =IF(OR($A9="",G9<=0),"",(G9-H9)/G9) | J9: =IF(OR(F9="",I9=""),"",F9*I9) | K9: =IF($A9="","",IFERROR(1-SUMIF('Nhật ký ca'!$C$6:$C$29,$A9,'Nhật ký ca'!$J$6:$J$29)/(SUMIF('Nhật ký ca'!$C$6:$C$29,$A9,'Nhật ký ca'!$H$6:$H$29)+SUMIF('Nhật ký ca'!$C$6:$C$29,$A9,'Nhật ký ca'!$I$6:$I$29)+SUMIF('Nhật ký ca'!$C$6:$C$29,$A9,'Nhật ký ca'!$J$6:$J$29)),1)) | L9: =IF(OR(J9="",C9=""),"",IF(AND(C9>=$C$15,K9>=$C$16,COUNTIFS('Nhật ký ca'!$C$6:$C$29,$A9,'Nhật ký ca'!$R$6:$R$29,">1")=0),"Đủ","Chưa đủ")) | M9: =IF(L9<>"Đủ","—",IF(J9>=$B$22,"Bậc 3",IF(J9>=$B$21,"Bậc 2",IF(J9>=$B$20,"Bậc 1","Chưa đạt")))) -> — | N9: =IF(L9<>"Đủ","",IF(J9>=$B$22,$C$22,IF(J9>=$B$21,$C$21,IF(J9>=$B$20,$C$20,0)))) | O9: =IF(OR($A9="",J9=""),"",IFERROR((C9-SUMIF('Nhật ký ca'!$C$6:$C$29,$A9,'Nhật ký ca'!$H$6:$H$29)-SUMIF('Nhật ký ca'!$C$6:$C$29,$A9,'Nhật ký ca'!$I$6:$I$29))/(C9-SUMIF('Nhật ký ca'!$C$6:$C$29,$A9,'Nhật ký ca'!$H$6:$H$29))*J9,""))
B10: =IF($A10="","",COUNTIF('Nhật ký ca'!$C$6:$C$29,$A10)) | C10: =IF($A10="","",SUMIF('Nhật ký ca'!$C$6:$C$29,$A10,'Nhật ký ca'!$G$6:$G$29)) | D10: =IF($A10="","",SUMIF('Nhật ký ca'!$C$6:$C$29,$A10,'Nhật ký ca'!$P$6:$P$29)) | E10: =IF($A10="","",SUMPRODUCT(('Nhật ký ca'!$C$6:$C$29=$A10)*'Nhật ký ca'!$F$6:$F$29*'Nhật ký ca'!$K$6:$K$29)/60) | F10: =IF(OR($A10="",D10<=0),"",E10/D10) | G10: =IF($A10="","",SUMIF('Nhật ký ca'!$C$6:$C$29,$A10,'Nhật ký ca'!$N$6:$N$29)) | H10: =IF($A10="","",SUMIF('Nhật ký ca'!$C$6:$C$29,$A10,'Nhật ký ca'!$M$6:$M$29)) | I10: =IF(OR($A10="",G10<=0),"",(G10-H10)/G10) | J10: =IF(OR(F10="",I10=""),"",F10*I10) | K10: =IF($A10="","",IFERROR(1-SUMIF('Nhật ký ca'!$C$6:$C$29,$A10,'Nhật ký ca'!$J$6:$J$29)/(SUMIF('Nhật ký ca'!$C$6:$C$29,$A10,'Nhật ký ca'!$H$6:$H$29)+SUMIF('Nhật ký ca'!$C$6:$C$29,$A10,'Nhật ký ca'!$I$6:$I$29)+SUMIF('Nhật ký ca'!$C$6:$C$29,$A10,'Nhật ký ca'!$J$6:$J$29)),1)) | L10: =IF(OR(J10="",C10=""),"",IF(AND(C10>=$C$15,K10>=$C$16,COUNTIFS('Nhật ký ca'!$C$6:$C$29,$A10,'Nhật ký ca'!$R$6:$R$29,">1")=0),"Đủ","Chưa đủ")) | M10: =IF(L10<>"Đủ","—",IF(J10>=$B$22,"Bậc 3",IF(J10>=$B$21,"Bậc 2",IF(J10>=$B$20,"Bậc 1","Chưa đạt")))) -> — | N10: =IF(L10<>"Đủ","",IF(J10>=$B$22,$C$22,IF(J10>=$B$21,$C$21,IF(J10>=$B$20,$C$20,0)))) | O10: =IF(OR($A10="",J10=""),"",IFERROR((C10-SUMIF('Nhật ký ca'!$C$6:$C$29,$A10,'Nhật ký ca'!$H$6:$H$29)-SUMIF('Nhật ký ca'!$C$6:$C$29,$A10,'Nhật ký ca'!$I$6:$I$29))/(C10-SUMIF('Nhật ký ca'!$C$6:$C$29,$A10,'Nhật ký ca'!$H$6:$H$29))*J10,""))
A14: ĐIỀU KIỆN XÉT THƯỞNG — ví dụ, nhà máy tự đặt
A15: Tổng phút đứng máy tối thiểu trong kỳ | C15: 1200
A16: Phút dừng có lý do tối thiểu | C16: 0.9
A17: Và KHÔNG ca nào có P% vượt 100% — vượt là CT chuẩn còn sai; sửa CT chuẩn trước khi gắn tiền.
A19: Bậc | B19: KPI từ | C19: Hệ số × mức thưởng cơ sở
A20: Bậc 1 | B20: 0.8 | C20: 0.5
A21: Bậc 2 | B21: 0.85 | C21: 1
A22: Bậc 3 | B22: 0.9 | C22: 1.5
A24: Đây là VÍ DỤ cách nối KPI với thưởng, không phải công thức chuẩn. Nên chạy thử vài tháng, công khai số cho công nhân, cho phép khiếu nại việc gán lý do dừng — rồi mới gắn tiền.

Sheet Hướng dẫn
A1: CÁCH DÙNG MẪU NÀY
A2: 1. Trang "Nhật ký ca": mỗi dòng là một người × một ca × một máy × một mã hàng. Điền ô nền vàng; các cột còn lại tự tính.
A3: 2. CT chuẩn phải theo TỪNG mã hàng. Không có nó thì sản lượng thô sẽ luôn thưởng cho người chạy mã dễ.
A4: 3. Tách thời gian dừng làm ba cột: không do người (chờ vật tư, hỏng máy, đổi khuôn theo kế hoạch…) · do người · chưa rõ lý do. Nhà máy tự lập bảng mã dừng nào thuộc cột nào, và công bố trước.
A5: 4. Số chu kỳ máy đếm gồm cả hàng hư — cột hàng hư là bắt buộc. Khuôn nhiều lòng thì điền "số sp mỗi chu kỳ".
A6: 5. KPI người = P% × Q%. A% (tỷ lệ thời gian máy chạy) thuộc về máy và tổ chức, nên chỉ hiện để tham khảo, không vào KPI.
A7: 6. Trang "Tổng hợp theo người" cộng phút và sản phẩm rồi mới chia — không lấy trung bình các phần trăm.
A9: CỘT "CẦN XEM"
A10: P > 100%: gần như luôn là CT chuẩn hoặc số sp mỗi chu kỳ đặt sai. Sửa dữ liệu chuẩn, đừng thưởng cho con số đó.
A11: Nhiều phút dừng chưa rõ lý do: không biết lý do thì không biết ai chịu trách nhiệm — KPI của người đó chưa đáng tin.
A13: GÓC NHÌN 2 (cột nền xám)
A14: Một số nhà máy muốn tính cả thời gian dừng DO NGƯỜI (ví dụ chuẩn bị chậm, bỏ máy). Cột "A% phần của người" = thời gian chạy ÷ (thời gian đứng máy − dừng không do người). Chỉ nên dùng khi việc gán lý do dừng đã được cả hai bên tin.
... A18: Mẫu miễn phí của SAMITECH — được dùng, sửa và chia sẻ tự do.
